Package: clstutils Version: 1.54.0 Command: /home/biocbuild/R/R/bin/R CMD check --install=check:clstutils.install-out.txt --library=/home/biocbuild/R/R/site-library --no-vignettes --timings clstutils_1.54.0.tar.gz StartedAt: 2025-02-04 05:42:37 -0000 (Tue, 04 Feb 2025) EndedAt: 2025-02-04 05:43:34 -0000 (Tue, 04 Feb 2025) EllapsedTime: 57.0 seconds RetCode: 0 Status: WARNINGS CheckDir: clstutils.Rcheck Warnings: 1