Package: clustComp Version: 1.34.0 Command: rm -rf clustComp.buildbin-libdir && mkdir clustComp.buildbin-libdir && /Users/biocbuild/BBS/utils/build-universal.sh clustComp_1.34.0.tar.gz /Library/Frameworks/R.framework/Resources/bin/R clustComp.buildbin-libdir StartedAt: 2025-02-05 15:16:08 -0500 (Wed, 05 Feb 2025) EndedAt: 2025-02-05 15:16:14 -0500 (Wed, 05 Feb 2025) EllapsedTime: 5.7 seconds RetCode: 0 Status: OK PackageFile: clustComp_1.34.0.tgz PackageFileSize: 1018 KiB