Package: clustComp Version: 1.34.0 Command: /Library/Frameworks/R.framework/Resources/bin/R CMD check --install=check:clustComp.install-out.txt --library=/Library/Frameworks/R.framework/Resources/library --no-vignettes --timings clustComp_1.34.0.tar.gz StartedAt: 2025-02-04 15:06:25 -0500 (Tue, 04 Feb 2025) EndedAt: 2025-02-04 15:06:53 -0500 (Tue, 04 Feb 2025) EllapsedTime: 28.2 seconds RetCode: 0 Status: OK CheckDir: clustComp.Rcheck Warnings: 0