Package: clustComp Version: 1.34.0 Command: /Library/Frameworks/R.framework/Resources/bin/R CMD build --keep-empty-dirs --no-resave-data clustComp StartedAt: 2025-01-30 18:01:03 -0500 (Thu, 30 Jan 2025) EndedAt: 2025-01-30 18:03:09 -0500 (Thu, 30 Jan 2025) EllapsedTime: 125.7 seconds RetCode: 0 Status: OK PackageFile: clustComp_1.34.0.tar.gz PackageFileSize: 931.4 KiB