Package: clustComp Version: 1.34.0 Command: /home/biocbuild/bbs-3.20-bioc/R/bin/R CMD check --install=check:clustComp.install-out.txt --library=/home/biocbuild/bbs-3.20-bioc/R/site-library --timings clustComp_1.34.0.tar.gz StartedAt: 2025-02-10 20:56:32 -0500 (Mon, 10 Feb 2025) EndedAt: 2025-02-10 20:57:46 -0500 (Mon, 10 Feb 2025) EllapsedTime: 74.1 seconds RetCode: 0 Status: OK CheckDir: clustComp.Rcheck Warnings: 0