Package: clustComp Version: 1.34.0 Command: /home/biocbuild/R/R/bin/R CMD build --keep-empty-dirs --no-resave-data clustComp StartedAt: 2025-02-10 22:29:52 -0000 (Mon, 10 Feb 2025) EndedAt: 2025-02-10 22:31:06 -0000 (Mon, 10 Feb 2025) EllapsedTime: 74.0 seconds RetCode: 0 Status: OK PackageFile: clustComp_1.34.0.tar.gz PackageFileSize: 925.1 KiB