Package: clustComp Version: 1.34.0 Command: /home/biocbuild/R/R/bin/R CMD INSTALL clustComp StartedAt: 2025-02-03 20:21:28 -0000 (Mon, 03 Feb 2025) EndedAt: 2025-02-03 20:21:48 -0000 (Mon, 03 Feb 2025) EllapsedTime: 20.7 seconds RetCode: 0 Status: OK