Package: clusterExperiment Version: 2.26.0 Command: F:\biocbuild\bbs-3.20-bioc\R\bin\R.exe CMD check --no-multiarch --install=check:clusterExperiment.install-out.txt --library=F:\biocbuild\bbs-3.20-bioc\R\library --no-vignettes --timings clusterExperiment_2.26.0.tar.gz StartedAt: 2025-02-11 00:18:58 -0500 (Tue, 11 Feb 2025) EndedAt: 2025-02-11 00:35:04 -0500 (Tue, 11 Feb 2025) EllapsedTime: 966.4 seconds RetCode: 0 Status: WARNINGS CheckDir: clusterExperiment.Rcheck Warnings: 2