Package: clusterExperiment Version: 2.26.0 Command: F:\biocbuild\bbs-3.20-bioc\R\bin\R.exe CMD INSTALL clusterExperiment StartedAt: 2025-02-10 16:54:20 -0500 (Mon, 10 Feb 2025) EndedAt: 2025-02-10 17:00:44 -0500 (Mon, 10 Feb 2025) EllapsedTime: 384.1 seconds RetCode: 0 Status: OK