Package: clusterProfiler Version: 4.14.4 Command: /Library/Frameworks/R.framework/Resources/bin/R CMD build --keep-empty-dirs --no-resave-data clusterProfiler StartedAt: 2025-02-10 17:51:10 -0500 (Mon, 10 Feb 2025) EndedAt: 2025-02-10 17:52:11 -0500 (Mon, 10 Feb 2025) EllapsedTime: 61.1 seconds RetCode: 0 Status: OK PackageFile: clusterProfiler_4.14.4.tar.gz PackageFileSize: 610.8 KiB