Package: clusterProfiler Version: 4.14.4 Command: /Library/Frameworks/R.framework/Resources/bin/R CMD check --install=check:clusterProfiler.install-out.txt --library=/Library/Frameworks/R.framework/Resources/library --no-vignettes --timings clusterProfiler_4.14.4.tar.gz StartedAt: 2025-02-11 01:18:02 -0500 (Tue, 11 Feb 2025) EndedAt: 2025-02-11 01:25:46 -0500 (Tue, 11 Feb 2025) EllapsedTime: 464.2 seconds RetCode: 0 Status: OK CheckDir: clusterProfiler.Rcheck Warnings: 0