Package: clusterProfiler Version: 4.14.4 Command: rm -rf clusterProfiler.buildbin-libdir && mkdir clusterProfiler.buildbin-libdir && F:\biocbuild\bbs-3.20-bioc\R\bin\R.exe CMD INSTALL --build --library=clusterProfiler.buildbin-libdir clusterProfiler_4.14.4.tar.gz StartedAt: 2025-02-04 08:13:32 -0500 (Tue, 04 Feb 2025) EndedAt: 2025-02-04 08:14:51 -0500 (Tue, 04 Feb 2025) EllapsedTime: 79.5 seconds RetCode: 0 Status: OK PackageFile: clusterProfiler_4.14.4.zip PackageFileSize: 1.016 MiB