Package: clusterProfiler Version: 4.14.4 Command: chmod a+r clusterProfiler -R && F:\biocbuild\bbs-3.20-bioc\R\bin\R.exe CMD build --keep-empty-dirs --no-resave-data clusterProfiler StartedAt: 2025-02-03 18:12:41 -0500 (Mon, 03 Feb 2025) EndedAt: 2025-02-03 18:13:25 -0500 (Mon, 03 Feb 2025) EllapsedTime: 44.2 seconds RetCode: 0 Status: OK PackageFile: clusterProfiler_4.14.4.tar.gz PackageFileSize: 610.8 KiB