Package: clusterProfiler Version: 4.14.4 Command: F:\biocbuild\bbs-3.20-bioc\R\bin\R.exe CMD INSTALL clusterProfiler StartedAt: 2025-02-10 16:38:42 -0500 (Mon, 10 Feb 2025) EndedAt: 2025-02-10 16:41:20 -0500 (Mon, 10 Feb 2025) EllapsedTime: 157.5 seconds RetCode: 0 Status: OK