Package: clusterProfiler Version: 4.14.4 Command: /home/biocbuild/R/R/bin/R CMD build --keep-empty-dirs --no-resave-data clusterProfiler StartedAt: 2025-02-10 22:30:14 -0000 (Mon, 10 Feb 2025) EndedAt: 2025-02-10 22:30:46 -0000 (Mon, 10 Feb 2025) EllapsedTime: 32.0 seconds RetCode: 0 Status: OK PackageFile: clusterProfiler_4.14.4.tar.gz PackageFileSize: 611.6 KiB