Package: clusterProfiler Version: 4.14.3 Command: /home/biocbuild/bbs-3.20-bioc/R/bin/R CMD INSTALL clusterProfiler StartedAt: 2024-11-19 16:42:31 -0500 (Tue, 19 Nov 2024) EndedAt: 2024-11-19 16:42:51 -0500 (Tue, 19 Nov 2024) EllapsedTime: 20.3 seconds RetCode: 0 Status: OK