Package: clusterSeq Version: 1.30.0 Command: rm -rf clusterSeq.buildbin-libdir && mkdir clusterSeq.buildbin-libdir && /Users/biocbuild/BBS/utils/build-universal.sh clusterSeq_1.30.0.tar.gz /Library/Frameworks/R.framework/Resources/bin/R clusterSeq.buildbin-libdir StartedAt: 2025-02-05 15:16:42 -0500 (Wed, 05 Feb 2025) EndedAt: 2025-02-05 15:17:00 -0500 (Wed, 05 Feb 2025) EllapsedTime: 18.0 seconds RetCode: 0 Status: OK PackageFile: clusterSeq_1.30.0.tgz PackageFileSize: 1.053 MiB