Package: clusterSeq Version: 1.30.0 Command: /Library/Frameworks/R.framework/Resources/bin/R CMD build --keep-empty-dirs --no-resave-data clusterSeq StartedAt: 2025-02-03 20:55:45 -0500 (Mon, 03 Feb 2025) EndedAt: 2025-02-03 20:56:52 -0500 (Mon, 03 Feb 2025) EllapsedTime: 66.9 seconds RetCode: 0 Status: OK PackageFile: clusterSeq_1.30.0.tar.gz PackageFileSize: 1.008 MiB