Package: clusterSeq Version: 1.30.0 Command: /Library/Frameworks/R.framework/Resources/bin/R CMD check --install=check:clusterSeq.install-out.txt --library=/Library/Frameworks/R.framework/Resources/library --no-vignettes --timings clusterSeq_1.30.0.tar.gz StartedAt: 2025-01-31 14:43:44 -0500 (Fri, 31 Jan 2025) EndedAt: 2025-01-31 14:48:02 -0500 (Fri, 31 Jan 2025) EllapsedTime: 257.9 seconds RetCode: 0 Status: OK CheckDir: clusterSeq.Rcheck Warnings: 0