Package: clusterSeq Version: 1.30.0 Command: /Library/Frameworks/R.framework/Resources/bin/R CMD build --keep-empty-dirs --no-resave-data clusterSeq StartedAt: 2025-01-30 18:01:30 -0500 (Thu, 30 Jan 2025) EndedAt: 2025-01-30 18:04:21 -0500 (Thu, 30 Jan 2025) EllapsedTime: 170.8 seconds RetCode: 0 Status: OK PackageFile: clusterSeq_1.30.0.tar.gz PackageFileSize: 1.007 MiB