Package: clusterSeq Version: 1.30.0 Command: /Library/Frameworks/R.framework/Resources/bin/R CMD INSTALL clusterSeq StartedAt: 2025-01-30 15:29:03 -0500 (Thu, 30 Jan 2025) EndedAt: 2025-01-30 15:29:34 -0500 (Thu, 30 Jan 2025) EllapsedTime: 31.1 seconds RetCode: 0 Status: OK