Package: clusterSeq Version: 1.30.0 Command: rm -rf clusterSeq.buildbin-libdir && mkdir clusterSeq.buildbin-libdir && F:\biocbuild\bbs-3.20-bioc\R\bin\R.exe CMD INSTALL --build --library=clusterSeq.buildbin-libdir clusterSeq_1.30.0.tar.gz StartedAt: 2025-02-04 08:13:35 -0500 (Tue, 04 Feb 2025) EndedAt: 2025-02-04 08:13:54 -0500 (Tue, 04 Feb 2025) EllapsedTime: 20.0 seconds RetCode: 0 Status: OK PackageFile: clusterSeq_1.30.0.zip PackageFileSize: 1.058 MiB