Package: clusterSeq Version: 1.30.0 Command: /home/biocbuild/R/R/bin/R CMD check --install=check:clusterSeq.install-out.txt --library=/home/biocbuild/R/R/site-library --no-vignettes --timings clusterSeq_1.30.0.tar.gz StartedAt: 2025-02-04 05:44:23 -0000 (Tue, 04 Feb 2025) EndedAt: 2025-02-04 05:49:28 -0000 (Tue, 04 Feb 2025) EllapsedTime: 305.4 seconds RetCode: 0 Status: OK CheckDir: clusterSeq.Rcheck Warnings: 0