Package: clusterStab Version: 1.78.0 Command: rm -rf clusterStab.buildbin-libdir && mkdir clusterStab.buildbin-libdir && /Users/biocbuild/BBS/utils/build-universal.sh clusterStab_1.78.0.tar.gz /Library/Frameworks/R.framework/Resources/bin/R clusterStab.buildbin-libdir StartedAt: 2025-02-12 14:31:10 -0500 (Wed, 12 Feb 2025) EndedAt: 2025-02-12 14:31:16 -0500 (Wed, 12 Feb 2025) EllapsedTime: 5.7 seconds RetCode: 0 Status: OK PackageFile: clusterStab_1.78.0.tgz PackageFileSize: 339 KiB