Package: clusterStab Version: 1.78.0 Command: /Library/Frameworks/R.framework/Resources/bin/R CMD build --keep-empty-dirs --no-resave-data clusterStab StartedAt: 2025-02-03 20:57:54 -0500 (Mon, 03 Feb 2025) EndedAt: 2025-02-03 20:58:13 -0500 (Mon, 03 Feb 2025) EllapsedTime: 19.1 seconds RetCode: 0 Status: OK PackageFile: clusterStab_1.78.0.tar.gz PackageFileSize: 185.7 KiB