Package: clusterStab Version: 1.78.0 Command: /Library/Frameworks/R.framework/Resources/bin/R CMD build --keep-empty-dirs --no-resave-data clusterStab StartedAt: 2025-02-10 17:51:45 -0500 (Mon, 10 Feb 2025) EndedAt: 2025-02-10 17:52:20 -0500 (Mon, 10 Feb 2025) EllapsedTime: 35.1 seconds RetCode: 0 Status: OK PackageFile: clusterStab_1.78.0.tar.gz PackageFileSize: 185.6 KiB