Package: clusterStab Version: 1.78.0 Command: /home/biocbuild/bbs-3.20-bioc/R/bin/R CMD build --keep-empty-dirs --no-resave-data --md5 clusterStab StartedAt: 2025-02-03 16:53:04 -0500 (Mon, 03 Feb 2025) EndedAt: 2025-02-03 16:53:17 -0500 (Mon, 03 Feb 2025) EllapsedTime: 13.0 seconds RetCode: 0 Status: OK PackageFile: clusterStab_1.78.0.tar.gz PackageFileSize: 186.4 KiB