Package: clusterStab Version: 1.78.0 Command: chmod a+r clusterStab -R && F:\biocbuild\bbs-3.20-bioc\R\bin\R.exe CMD build --keep-empty-dirs --no-resave-data clusterStab StartedAt: 2025-02-10 18:07:20 -0500 (Mon, 10 Feb 2025) EndedAt: 2025-02-10 18:07:44 -0500 (Mon, 10 Feb 2025) EllapsedTime: 23.7 seconds RetCode: 0 Status: OK PackageFile: clusterStab_1.78.0.tar.gz PackageFileSize: 87.82 KiB