Package: clusterStab Version: 1.78.0 Command: /home/biocbuild/R/R/bin/R CMD build --keep-empty-dirs --no-resave-data clusterStab StartedAt: 2025-02-03 22:41:14 -0000 (Mon, 03 Feb 2025) EndedAt: 2025-02-03 22:41:30 -0000 (Mon, 03 Feb 2025) EllapsedTime: 16.0 seconds RetCode: 0 Status: OK PackageFile: clusterStab_1.78.0.tar.gz PackageFileSize: 179 KiB