Package: clusterStab Version: 1.78.0 Command: /home/biocbuild/R/R/bin/R CMD check --install=check:clusterStab.install-out.txt --library=/home/biocbuild/R/R/site-library --no-vignettes --timings clusterStab_1.78.0.tar.gz StartedAt: 2025-02-04 05:44:32 -0000 (Tue, 04 Feb 2025) EndedAt: 2025-02-04 05:44:56 -0000 (Tue, 04 Feb 2025) EllapsedTime: 24.0 seconds RetCode: 0 Status: OK CheckDir: clusterStab.Rcheck Warnings: 0