Package: clusterStab Version: 1.78.0 Command: /home/biocbuild/R/R/bin/R CMD INSTALL clusterStab StartedAt: 2025-02-10 20:09:23 -0000 (Mon, 10 Feb 2025) EndedAt: 2025-02-10 20:09:46 -0000 (Mon, 10 Feb 2025) EllapsedTime: 23.0 seconds RetCode: 0 Status: OK