Package: cmapR Version: 1.18.0 Command: /home/biocbuild/R/R/bin/R CMD check --install=check:cmapR.install-out.txt --library=/home/biocbuild/R/R/site-library --no-vignettes --timings cmapR_1.18.0.tar.gz StartedAt: 2025-02-04 05:45:11 -0000 (Tue, 04 Feb 2025) EndedAt: 2025-02-04 05:48:54 -0000 (Tue, 04 Feb 2025) EllapsedTime: 223.2 seconds RetCode: 0 Status: OK CheckDir: cmapR.Rcheck Warnings: 0