Package: cmapR Version: 1.18.0 Command: /home/biocbuild/R/R/bin/R CMD INSTALL cmapR StartedAt: 2025-02-03 20:33:23 -0000 (Mon, 03 Feb 2025) EndedAt: 2025-02-03 20:33:54 -0000 (Mon, 03 Feb 2025) EllapsedTime: 30.4 seconds RetCode: 0 Status: OK