Package: cn.farms Version: 1.54.0 Command: /Library/Frameworks/R.framework/Resources/bin/R CMD INSTALL cn.farms StartedAt: 2025-02-03 15:42:03 -0500 (Mon, 03 Feb 2025) EndedAt: 2025-02-03 15:42:23 -0500 (Mon, 03 Feb 2025) EllapsedTime: 19.7 seconds RetCode: 0 Status: OK