Package: cn.farms Version: 1.54.0 Command: /Library/Frameworks/R.framework/Resources/bin/R CMD build --keep-empty-dirs --no-resave-data cn.farms StartedAt: 2025-02-03 17:58:07 -0500 (Mon, 03 Feb 2025) EndedAt: 2025-02-03 18:00:14 -0500 (Mon, 03 Feb 2025) EllapsedTime: 127.3 seconds RetCode: 0 Status: OK PackageFile: cn.farms_1.54.0.tar.gz PackageFileSize: 2.29 MiB