Package: cn.farms Version: 1.54.0 Command: /Library/Frameworks/R.framework/Resources/bin/R CMD check --install=check:cn.farms.install-out.txt --library=/Library/Frameworks/R.framework/Resources/library --no-vignettes --timings cn.farms_1.54.0.tar.gz StartedAt: 2025-02-04 01:27:33 -0500 (Tue, 04 Feb 2025) EndedAt: 2025-02-04 01:36:17 -0500 (Tue, 04 Feb 2025) EllapsedTime: 523.9 seconds RetCode: 0 Status: OK CheckDir: cn.farms.Rcheck Warnings: 0