Package: cn.farms Version: 1.54.0 Command: /home/biocbuild/bbs-3.20-bioc/R/bin/R CMD build --keep-empty-dirs --no-resave-data --md5 cn.farms StartedAt: 2025-02-03 16:53:26 -0500 (Mon, 03 Feb 2025) EndedAt: 2025-02-03 16:54:11 -0500 (Mon, 03 Feb 2025) EllapsedTime: 44.0 seconds RetCode: 0 Status: OK PackageFile: cn.farms_1.54.0.tar.gz PackageFileSize: 2.294 MiB