Package: cn.farms Version: 1.54.0 Command: /home/biocbuild/bbs-3.20-bioc/R/bin/R CMD check --install=check:cn.farms.install-out.txt --library=/home/biocbuild/bbs-3.20-bioc/R/site-library --timings cn.farms_1.54.0.tar.gz StartedAt: 2025-02-03 21:07:08 -0500 (Mon, 03 Feb 2025) EndedAt: 2025-02-03 21:10:29 -0500 (Mon, 03 Feb 2025) EllapsedTime: 201.3 seconds RetCode: 0 Status: OK CheckDir: cn.farms.Rcheck Warnings: 0