Package: cn.farms Version: 1.54.0 Command: chmod a+r cn.farms -R && F:\biocbuild\bbs-3.20-bioc\R\bin\R.exe CMD build --keep-empty-dirs --no-resave-data cn.farms StartedAt: 2025-02-10 18:07:45 -0500 (Mon, 10 Feb 2025) EndedAt: 2025-02-10 18:09:06 -0500 (Mon, 10 Feb 2025) EllapsedTime: 80.7 seconds RetCode: 0 Status: OK PackageFile: cn.farms_1.54.0.tar.gz PackageFileSize: 2.239 MiB