Package: cn.farms Version: 1.54.0 Command: /home/biocbuild/R/R/bin/R CMD check --install=check:cn.farms.install-out.txt --library=/home/biocbuild/R/R/site-library --no-vignettes --timings cn.farms_1.54.0.tar.gz StartedAt: 2025-02-04 05:45:13 -0000 (Tue, 04 Feb 2025) EndedAt: 2025-02-04 05:49:18 -0000 (Tue, 04 Feb 2025) EllapsedTime: 245.3 seconds RetCode: 0 Status: OK CheckDir: cn.farms.Rcheck Warnings: 0