Package: cn.farms Version: 1.54.0 Command: /home/biocbuild/R/R/bin/R CMD INSTALL cn.farms StartedAt: 2025-02-03 20:41:03 -0000 (Mon, 03 Feb 2025) EndedAt: 2025-02-03 20:41:45 -0000 (Mon, 03 Feb 2025) EllapsedTime: 41.6 seconds RetCode: 0 Status: OK