Package: cn.mops Version: 1.52.0 Command: /Library/Frameworks/R.framework/Resources/bin/R CMD build --keep-empty-dirs --no-resave-data cn.mops StartedAt: 2025-02-03 21:00:23 -0500 (Mon, 03 Feb 2025) EndedAt: 2025-02-03 21:01:12 -0500 (Mon, 03 Feb 2025) EllapsedTime: 49.6 seconds RetCode: 0 Status: OK PackageFile: cn.mops_1.52.0.tar.gz PackageFileSize: 1.003 MiB