Package: cn.mops Version: 1.52.0 Command: /Library/Frameworks/R.framework/Resources/bin/R CMD INSTALL cn.mops StartedAt: 2025-01-30 16:00:54 -0500 (Thu, 30 Jan 2025) EndedAt: 2025-01-30 16:01:16 -0500 (Thu, 30 Jan 2025) EllapsedTime: 22.0 seconds RetCode: 0 Status: OK