Package: cn.mops Version: 1.52.0 Command: rm -rf cn.mops.buildbin-libdir && mkdir cn.mops.buildbin-libdir && /Users/biocbuild/BBS/utils/build-universal.sh cn.mops_1.52.0.tar.gz /Library/Frameworks/R.framework/Resources/bin/R cn.mops.buildbin-libdir StartedAt: 2025-02-04 12:41:21 -0500 (Tue, 04 Feb 2025) EndedAt: 2025-02-04 12:42:10 -0500 (Tue, 04 Feb 2025) EllapsedTime: 49.7 seconds RetCode: 0 Status: OK PackageFile: cn.mops_1.52.0.tgz PackageFileSize: 1.383 MiB