Package: cn.mops Version: 1.52.0 Command: /Library/Frameworks/R.framework/Resources/bin/R CMD check --install=check:cn.mops.install-out.txt --library=/Library/Frameworks/R.framework/Resources/library --no-vignettes --timings cn.mops_1.52.0.tar.gz StartedAt: 2025-02-04 01:27:53 -0500 (Tue, 04 Feb 2025) EndedAt: 2025-02-04 01:35:52 -0500 (Tue, 04 Feb 2025) EllapsedTime: 479.1 seconds RetCode: 0 Status: OK CheckDir: cn.mops.Rcheck Warnings: 0