Package: cn.mops Version: 1.52.0 Command: /home/biocbuild/bbs-3.20-bioc/R/bin/R CMD INSTALL cn.mops StartedAt: 2025-02-03 15:30:05 -0500 (Mon, 03 Feb 2025) EndedAt: 2025-02-03 15:30:22 -0500 (Mon, 03 Feb 2025) EllapsedTime: 17.2 seconds RetCode: 0 Status: OK