Package: cn.mops Version: 1.52.0 Command: rm -rf cn.mops.buildbin-libdir && mkdir cn.mops.buildbin-libdir && F:\biocbuild\bbs-3.20-bioc\R\bin\R.exe CMD INSTALL --build --library=cn.mops.buildbin-libdir cn.mops_1.52.0.tar.gz StartedAt: 2025-02-04 08:14:02 -0500 (Tue, 04 Feb 2025) EndedAt: 2025-02-04 08:14:50 -0500 (Tue, 04 Feb 2025) EllapsedTime: 47.9 seconds RetCode: 0 Status: OK PackageFile: cn.mops_1.52.0.zip PackageFileSize: 1.316 MiB