Package: cn.mops Version: 1.52.0 Command: F:\biocbuild\bbs-3.20-bioc\R\bin\R.exe CMD INSTALL cn.mops StartedAt: 2025-01-30 15:43:02 -0500 (Thu, 30 Jan 2025) EndedAt: 2025-01-30 15:43:55 -0500 (Thu, 30 Jan 2025) EllapsedTime: 53.0 seconds RetCode: 0 Status: OK