Package: cn.mops Version: 1.52.0 Command: /home/biocbuild/R/R/bin/R CMD check --install=check:cn.mops.install-out.txt --library=/home/biocbuild/R/R/site-library --no-vignettes --timings cn.mops_1.52.0.tar.gz StartedAt: 2025-01-31 05:02:13 -0000 (Fri, 31 Jan 2025) EndedAt: 2025-01-31 05:06:30 -0000 (Fri, 31 Jan 2025) EllapsedTime: 257.4 seconds RetCode: 0 Status: OK CheckDir: cn.mops.Rcheck Warnings: 0