Package: cn.mops Version: 1.52.0 Command: /home/biocbuild/R/R/bin/R CMD INSTALL cn.mops StartedAt: 2025-01-30 20:24:59 -0000 (Thu, 30 Jan 2025) EndedAt: 2025-01-30 20:25:23 -0000 (Thu, 30 Jan 2025) EllapsedTime: 24.2 seconds RetCode: 0 Status: OK